BEGIN:VCALENDAR
VERSION:2.0
PRODID:-//Plone.org//NONSGML plone.app.event//EN
X-WR-TIMEZONE:US/Central
BEGIN:VEVENT
SUMMARY:Storytime
DTSTART;TZID=US/Central:20190904T130000
DTEND;TZID=US/Central:20190904T140000
DTSTAMP:20260424T160923Z
UID:d6a8e0829f164543a30883ce9ccdbdb9@saas_stack_varnish:6080
CONTACT:Sidnie Srader\, 9362587060\, ssrader@daytontx.org
CREATED:20190826T180510Z
LAST-MODIFIED:20190826T181321Z
LOCATION:Jones Public Library Kidz Zone
URL:https://www.jonespubliclibrary.org/storytime
END:VEVENT
BEGIN:VTIMEZONE
TZID:US/Central
X-LIC-LOCATION:US/Central
BEGIN:DAYLIGHT
DTSTART:20190310T030000
TZNAME:CDT
TZOFFSETFROM:-0600
TZOFFSETTO:-0500
END:DAYLIGHT
END:VTIMEZONE
END:VCALENDAR
