BEGIN:VCALENDAR
VERSION:2.0
PRODID:-//Plone.org//NONSGML plone.app.event//EN
X-WR-TIMEZONE:US/Central
BEGIN:VEVENT
SUMMARY:Movie Day at JPL! 🦇🎞️
DTSTART;TZID=US/Central:20191026T110000
DTEND;TZID=US/Central:20191026T130000
DTSTAMP:20260424T155441Z
UID:a72e1198f0d7402fb1ccd5874024c822@saas_stack_varnish:6080
CONTACT:Sidnie Srader\, 9362587060\, ssrader@daytontx.org
CREATED:20190930T202519Z
LAST-MODIFIED:20190930T202523Z
LOCATION:Room 500
URL:https://www.jonespubliclibrary.org/movie-day-at-jpl-1f9871f39efe0f
END:VEVENT
BEGIN:VTIMEZONE
TZID:US/Central
X-LIC-LOCATION:US/Central
BEGIN:DAYLIGHT
DTSTART:20190310T030000
TZNAME:CDT
TZOFFSETFROM:-0600
TZOFFSETTO:-0500
END:DAYLIGHT
END:VTIMEZONE
END:VCALENDAR
