BEGIN:VCALENDAR
VERSION:2.0
PRODID:-//Plone.org//NONSGML plone.app.event//EN
X-WR-TIMEZONE:US/Central
BEGIN:VEVENT
SUMMARY:LIBRARY CLOSED FOR LABOR DAY!
DTSTART;VALUE=DATE:20190902
DTEND;VALUE=DATE:20190903
DTSTAMP:20260424T160607Z
UID:9841630147564d03b45fcc3b8aca7668@saas_stack_varnish:6080
CREATED:20190827T214252Z
LAST-MODIFIED:20190827T214336Z
URL:https://www.jonespubliclibrary.org/closed-for-labor-day
END:VEVENT
END:VCALENDAR
