BEGIN:VCALENDAR
VERSION:2.0
PRODID:-//Plone.org//NONSGML plone.app.event//EN
X-WR-TIMEZONE:US/Central
BEGIN:VEVENT
SUMMARY:Adult Programming: Vision Boards
DTSTART;TZID=US/Central:20200714T160000
DTEND;TZID=US/Central:20200714T234500
DTSTAMP:20260424T161351Z
UID:d6cfd242aed6471ba819dd29fc7cb91d@saas_stack_varnish:6080
CREATED:20200622T170854Z
LAST-MODIFIED:20200622T170907Z
URL:https://www.jonespubliclibrary.org/adult-programming-vision-boards
END:VEVENT
BEGIN:VTIMEZONE
TZID:US/Central
X-LIC-LOCATION:US/Central
BEGIN:DAYLIGHT
DTSTART:20200308T030000
TZNAME:CDT
TZOFFSETFROM:-0600
TZOFFSETTO:-0500
END:DAYLIGHT
END:VTIMEZONE
END:VCALENDAR
